BEGIN:VCALENDAR
VERSION:2.0
PRODID:-//AFLabs urnik izvoz - mf//aflabs.si//SI
NAME:UL MF urnik
X-WR-CALNAME:UL MF urnik
DTSTAMP:20260424T023636Z
REFRESH-INTERVAL:PT1H
SOURCE:https://urnik.mf.uni-lj.si/en/teacher/36/?day=2025-09-01&export=1
URL:https://urnik.mf.uni-lj.si/en/teacher/36/?day=2025-09-01&export=1
X-PUBLISHED-TTL:PT1H
X-WR-TIMEZONE:Europe/Ljubljana
BEGIN:VTIMEZONE
TZID:Europe/Ljubljana
BEGIN:DAYLIGHT
DTSTART:20260329T020000
RDATE:20260329T020000
RDATE:20270328T020000
TZNAME:CEST
TZOFFSETFROM:+0100
TZOFFSETTO:+0200
END:DAYLIGHT
BEGIN:STANDARD
DTSTART:20261025T030000
RDATE:20261025T030000
RDATE:20271031T030000
TZNAME:CET
TZOFFSETFROM:+0200
TZOFFSETTO:+0100
END:STANDARD
END:VTIMEZONE
BEGIN:VEVENT
SUMMARY:Zobne bolezni 2 (ZOBNE2)\, Vaje (V)\, [D5-04\, D5-05\, D5-06]
DTSTART;TZID=Europe/Ljubljana:20251001T073000
DTEND;TZID=Europe/Ljubljana:20251001T123000
DTSTAMP:20260424T023636Z
UID:mf-AFLABS-URNIK:srecanje:6164-2025-10-01 07:30:00+02:00
DESCRIPTION:Predmet: Zobne bolezni 2 (ZOBNE2)\, Vaje (V)\, [D5-04\, D5-05\
 , D5-06]\nLetniki: 5. LETNIK (EMŠ DM)\nIzvajalci: Katedra za zobne bolezn
 i in norm KZBNMZO\nProstor: Sem - 1 - Katedra za javno zdravje
END:VEVENT
BEGIN:VEVENT
SUMMARY:Zobne bolezni 3 (ZOBNE3)\, Klinične vaje (KV)\, [D6-04]
DTSTART;TZID=Europe/Ljubljana:20251001T073000
DTEND;TZID=Europe/Ljubljana:20251001T100000
DTSTAMP:20260424T023636Z
UID:mf-AFLABS-URNIK:srecanje:6957-2025-10-01 07:30:00+02:00
DESCRIPTION:Predmet: Zobne bolezni 3 (ZOBNE3)\, Klinične vaje (KV)\, [D6-
 04]\nLetniki: 6. LETNIK (EMŠ DM)\nIzvajalci: Katedra za zobne bolezni in 
 norm KZBNMZO\nProstor: Vaj - KZB - 44 - Stoma - UKC
END:VEVENT
BEGIN:VEVENT
SUMMARY:Zobne bolezni 3 (ZOBNE3)\, Klinične vaje (KV)\, [D6-05]
DTSTART;TZID=Europe/Ljubljana:20251001T100000
DTEND;TZID=Europe/Ljubljana:20251001T123000
DTSTAMP:20260424T023636Z
UID:mf-AFLABS-URNIK:srecanje:6958-2025-10-01 10:00:00+02:00
DESCRIPTION:Predmet: Zobne bolezni 3 (ZOBNE3)\, Klinične vaje (KV)\, [D6-
 05]\nLetniki: 6. LETNIK (EMŠ DM)\nIzvajalci: Katedra za zobne bolezni in 
 norm KZBNMZO\nProstor: Vaj - KZB - 44 - Stoma - UKC
END:VEVENT
BEGIN:VEVENT
SUMMARY:Zobne bolezni 3 (ZOBNE3)\, Klinične vaje (KV)\, [D6-06]
DTSTART;TZID=Europe/Ljubljana:20251001T123000
DTEND;TZID=Europe/Ljubljana:20251001T150000
DTSTAMP:20260424T023636Z
UID:mf-AFLABS-URNIK:srecanje:6959-2025-10-01 12:30:00+02:00
DESCRIPTION:Predmet: Zobne bolezni 3 (ZOBNE3)\, Klinične vaje (KV)\, [D6-
 06]\nLetniki: 6. LETNIK (EMŠ DM)\nIzvajalci: Katedra za zobne bolezni in 
 norm KZBNMZO\nProstor: Vaj - KZB - 44 - Stoma - UKC
END:VEVENT
BEGIN:VEVENT
SUMMARY:Zobne bolezni 2 (ZOBNE2)\, Predavanje (P)
DTSTART;TZID=Europe/Ljubljana:20251002T110000
DTEND;TZID=Europe/Ljubljana:20251002T140000
DTSTAMP:20260424T023636Z
UID:mf-AFLABS-URNIK:srecanje:6156-2025-10-02 11:00:00+02:00
DESCRIPTION:Predmet: Zobne bolezni 2 (ZOBNE2)\, Predavanje (P)\nLetniki: 5
 . LETNIK (EMŠ DM)\nIzvajalci: Katedra za zobne bolezni in norm KZBNMZO\nP
 rostor: Pred - Stoma
END:VEVENT
BEGIN:VEVENT
SUMMARY:Stomatološki predklinični praktikum -Stomatološka protetika (PK
 P-SP)\, Predavanje (P)
DTSTART;TZID=Europe/Ljubljana:20251002T140000
DTEND;TZID=Europe/Ljubljana:20251002T150000
DTSTAMP:20260424T023636Z
UID:mf-AFLABS-URNIK:premaknjeno-srecanje:28342
ATTENDEE:3. LETNIK (EMŠ DM)
CATEGORIES:Entry,Special
COLOR:forestgreen
DESCRIPTION:Predmet: Stomatološki predklinični praktikum -Stomatološka 
 protetika (PKP-SP)\, Predavanje (P)\nLetniki: 3. LETNIK (EMŠ DM)\nIzvajal
 ci: Katedra za zobne bolezni in norm KZBNMZO\nProstor: Pred - Mala - MF
LOCATION:Korytkova 2\, Pred - Mala - MF
ORGANIZER:Katedra za zobne bolezni in norm KZBNMZO
RELATED-TO:mf-AFLABS-URNIK:srecanje:6239
X-WR-TIMEZONE:Europe/Ljubljana
END:VEVENT
BEGIN:VEVENT
SUMMARY:Zobne bolezni 3 (ZOBNE3)\, Klinične vaje (KV)\, [D6-03]
DTSTART;TZID=Europe/Ljubljana:20251002T073000
DTEND;TZID=Europe/Ljubljana:20251002T090000
DTSTAMP:20260424T023636Z
UID:mf-AFLABS-URNIK:srecanje:6960-2025-10-02 07:30:00+02:00
DESCRIPTION:Predmet: Zobne bolezni 3 (ZOBNE3)\, Klinične vaje (KV)\, [D6-
 03]\nLetniki: 6. LETNIK (EMŠ DM)\nIzvajalci: Katedra za zobne bolezni in 
 norm KZBNMZO\nProstor: Vaj - KZB - 44 - Stoma - UKC
END:VEVENT
BEGIN:VEVENT
SUMMARY:Zobne bolezni 3 (ZOBNE3)\, Klinične vaje (KV)\, [D6-01]
DTSTART;TZID=Europe/Ljubljana:20251002T091500
DTEND;TZID=Europe/Ljubljana:20251002T104500
DTSTAMP:20260424T023636Z
UID:mf-AFLABS-URNIK:srecanje:6961-2025-10-02 09:15:00+02:00
DESCRIPTION:Predmet: Zobne bolezni 3 (ZOBNE3)\, Klinične vaje (KV)\, [D6-
 01]\nLetniki: 6. LETNIK (EMŠ DM)\nIzvajalci: Katedra za zobne bolezni in 
 norm KZBNMZO\nProstor: Vaj - KZB - 44 - Stoma - UKC
END:VEVENT
BEGIN:VEVENT
SUMMARY:Zobne bolezni 3 (ZOBNE3)\, Klinične vaje (KV)\, [D6-02]
DTSTART;TZID=Europe/Ljubljana:20251002T110000
DTEND;TZID=Europe/Ljubljana:20251002T123000
DTSTAMP:20260424T023636Z
UID:mf-AFLABS-URNIK:srecanje:6962-2025-10-02 11:00:00+02:00
DESCRIPTION:Predmet: Zobne bolezni 3 (ZOBNE3)\, Klinične vaje (KV)\, [D6-
 02]\nLetniki: 6. LETNIK (EMŠ DM)\nIzvajalci: Katedra za zobne bolezni in 
 norm KZBNMZO\nProstor: Vaj - KZB - 44 - Stoma - UKC
END:VEVENT
BEGIN:VEVENT
SUMMARY:Zobne bolezni 2 (ZOBNE2)\, Klinične vaje (KV)\, [D5-06]
DTSTART;TZID=Europe/Ljubljana:20251003T073000
DTEND;TZID=Europe/Ljubljana:20251003T094500
DTSTAMP:20260424T023636Z
UID:mf-AFLABS-URNIK:srecanje:6160-2025-10-03 07:30:00+02:00
DESCRIPTION:Predmet: Zobne bolezni 2 (ZOBNE2)\, Klinične vaje (KV)\, [D5-
 06]\nLetniki: 5. LETNIK (EMŠ DM)\nIzvajalci: Katedra za zobne bolezni in 
 norm KZBNMZO\nProstor: Vaj - KZB - 44 - Stoma - UKC
END:VEVENT
BEGIN:VEVENT
SUMMARY:Zobne bolezni 2 (ZOBNE2)\, Klinične vaje (KV)\, [D5-05]
DTSTART;TZID=Europe/Ljubljana:20251003T100000
DTEND;TZID=Europe/Ljubljana:20251003T121500
DTSTAMP:20260424T023636Z
UID:mf-AFLABS-URNIK:srecanje:6161-2025-10-03 10:00:00+02:00
DESCRIPTION:Predmet: Zobne bolezni 2 (ZOBNE2)\, Klinične vaje (KV)\, [D5-
 05]\nLetniki: 5. LETNIK (EMŠ DM)\nIzvajalci: Katedra za zobne bolezni in 
 norm KZBNMZO\nProstor: Vaj - KZB - 44 - Stoma - UKC
END:VEVENT
BEGIN:VEVENT
SUMMARY:Zobne bolezni 2 (ZOBNE2)\, Klinične vaje (KV)\, [D5-04]
DTSTART;TZID=Europe/Ljubljana:20251003T123000
DTEND;TZID=Europe/Ljubljana:20251003T144500
DTSTAMP:20260424T023636Z
UID:mf-AFLABS-URNIK:srecanje:6162-2025-10-03 12:30:00+02:00
DESCRIPTION:Predmet: Zobne bolezni 2 (ZOBNE2)\, Klinične vaje (KV)\, [D5-
 04]\nLetniki: 5. LETNIK (EMŠ DM)\nIzvajalci: Katedra za zobne bolezni in 
 norm KZBNMZO\nProstor: Vaj - KZB - 44 - Stoma - UKC
END:VEVENT
BEGIN:VEVENT
SUMMARY:Stomatološki predklinični praktikum -Zobne bolezni (PKP-ZB)\, Va
 je (V)\, [D3-01\, D3-02\, D3-03]
DTSTART;TZID=Europe/Ljubljana:20251003T080000
DTEND;TZID=Europe/Ljubljana:20251003T103000
DTSTAMP:20260424T023636Z
UID:mf-AFLABS-URNIK:premaknjeno-srecanje:27867
ATTENDEE:3. LETNIK (EMŠ DM)
CATEGORIES:Entry,Special
COLOR:forestgreen
DESCRIPTION:Predmet: Stomatološki predklinični praktikum -Zobne bolezni 
 (PKP-ZB)\, Vaje (V)\, [D3-01\, D3-02\, D3-03]\nLetniki: 3. LETNIK (EMŠ DM
 )\nIzvajalci: Katedra za zobne bolezni in norm KZBNMZO\nProstor: CUKV - DM
  - Vaj - Velika
LOCATION:Korytkova 2\, CUKV - DM - Vaj - Velika
ORGANIZER:Katedra za zobne bolezni in norm KZBNMZO
RELATED-TO:mf-AFLABS-URNIK:srecanje:6174
X-WR-TIMEZONE:Europe/Ljubljana
END:VEVENT
BEGIN:VEVENT
SUMMARY:Zobne bolezni 2 (ZOBNE2)\, Klinične vaje (KV)\, [D5-03]
DTSTART;TZID=Europe/Ljubljana:20251006T073000
DTEND;TZID=Europe/Ljubljana:20251006T094500
DTSTAMP:20260424T023636Z
UID:mf-AFLABS-URNIK:srecanje:6157-2025-10-06 07:30:00+02:00
DESCRIPTION:Predmet: Zobne bolezni 2 (ZOBNE2)\, Klinične vaje (KV)\, [D5-
 03]\nLetniki: 5. LETNIK (EMŠ DM)\nIzvajalci: Katedra za zobne bolezni in 
 norm KZBNMZO\nProstor: Vaj - KZB - 44 - Stoma - UKC
END:VEVENT
BEGIN:VEVENT
SUMMARY:Zobne bolezni 2 (ZOBNE2)\, Klinične vaje (KV)\, [D5-02]
DTSTART;TZID=Europe/Ljubljana:20251006T100000
DTEND;TZID=Europe/Ljubljana:20251006T121500
DTSTAMP:20260424T023636Z
UID:mf-AFLABS-URNIK:srecanje:6158-2025-10-06 10:00:00+02:00
DESCRIPTION:Predmet: Zobne bolezni 2 (ZOBNE2)\, Klinične vaje (KV)\, [D5-
 02]\nLetniki: 5. LETNIK (EMŠ DM)\nIzvajalci: Katedra za zobne bolezni in 
 norm KZBNMZO\nProstor: Vaj - KZB - 44 - Stoma - UKC
END:VEVENT
BEGIN:VEVENT
SUMMARY:Zobne bolezni 2 (ZOBNE2)\, Klinične vaje (KV)\, [D5-01]
DTSTART;TZID=Europe/Ljubljana:20251006T123000
DTEND;TZID=Europe/Ljubljana:20251006T144500
DTSTAMP:20260424T023636Z
UID:mf-AFLABS-URNIK:srecanje:6159-2025-10-06 12:30:00+02:00
DESCRIPTION:Predmet: Zobne bolezni 2 (ZOBNE2)\, Klinične vaje (KV)\, [D5-
 01]\nLetniki: 5. LETNIK (EMŠ DM)\nIzvajalci: Katedra za zobne bolezni in 
 norm KZBNMZO\nProstor: Vaj - KZB - 44 - Stoma - UKC
END:VEVENT
END:VCALENDAR
