BEGIN:VCALENDAR
VERSION:2.0
PRODID:-//AFLabs urnik izvoz - mf//aflabs.si//SI
NAME:UL MF urnik
X-WR-CALNAME:UL MF urnik
DTSTAMP:20260424T193135Z
REFRESH-INTERVAL:PT1H
SOURCE:https://urnik.mf.uni-lj.si/en/teacher/22/?day=2025-09-01&export=1
URL:https://urnik.mf.uni-lj.si/en/teacher/22/?day=2025-09-01&export=1
X-PUBLISHED-TTL:PT1H
X-WR-TIMEZONE:Europe/Ljubljana
BEGIN:VTIMEZONE
TZID:Europe/Ljubljana
BEGIN:DAYLIGHT
DTSTART:20260329T020000
RDATE:20260329T020000
RDATE:20270328T020000
TZNAME:CEST
TZOFFSETFROM:+0100
TZOFFSETTO:+0200
END:DAYLIGHT
BEGIN:STANDARD
DTSTART:20261025T030000
RDATE:20261025T030000
RDATE:20271031T030000
TZNAME:CET
TZOFFSETFROM:+0200
TZOFFSETTO:+0100
END:STANDARD
END:VTIMEZONE
BEGIN:VEVENT
SUMMARY:Maksilofacialna kirurgija s temelji dentalne medicine (MAFA)\, Pre
 davanje (P)\, [M5-11\, M5-12\, M5-13\, M5-14\, M5-15]
DTSTART;TZID=Europe/Ljubljana:20251001T120000
DTEND;TZID=Europe/Ljubljana:20251001T150000
DTSTAMP:20260424T193135Z
UID:mf-AFLABS-URNIK:srecanje:5489-2025-10-01 12:00:00+02:00
DESCRIPTION:Predmet: Maksilofacialna kirurgija s temelji dentalne medicine
  (MAFA)\, Predavanje (P)\, [M5-11\, M5-12\, M5-13\, M5-14\, M5-15]\nLetnik
 i: 5. LETNIK (EMŠ M)\nIzvajalci: Katedra za maksilofacialno  in o KMOK\nP
 rostor: Pred - Srednja - MF
END:VEVENT
BEGIN:VEVENT
SUMMARY:Maksilofacialna kirurgija s temelji dentalne medicine (MAFA)\, Pre
 davanje (P)\, [M5-11\, M5-12\, M5-13\, M5-14\, M5-15]
DTSTART;TZID=Europe/Ljubljana:20251002T130000
DTEND;TZID=Europe/Ljubljana:20251002T150000
DTSTAMP:20260424T193135Z
UID:mf-AFLABS-URNIK:srecanje:5490-2025-10-02 13:00:00+02:00
DESCRIPTION:Predmet: Maksilofacialna kirurgija s temelji dentalne medicine
  (MAFA)\, Predavanje (P)\, [M5-11\, M5-12\, M5-13\, M5-14\, M5-15]\nLetnik
 i: 5. LETNIK (EMŠ M)\nIzvajalci: Katedra za maksilofacialno  in o KMOK\nP
 rostor: Pred - Travma - UKC
END:VEVENT
BEGIN:VEVENT
SUMMARY:Maksilofacialna kirurgija s temelji dentalne medicine (MAFA)\, Vaj
 e (V)\, [M5-11\, M5-12\, M5-13\, M5-14\, M5-15]
DTSTART;TZID=Europe/Ljubljana:20251002T090000
DTEND;TZID=Europe/Ljubljana:20251002T130000
DTSTAMP:20260424T193135Z
UID:mf-AFLABS-URNIK:srecanje:5492-2025-10-02 09:00:00+02:00
DESCRIPTION:Predmet: Maksilofacialna kirurgija s temelji dentalne medicine
  (MAFA)\, Vaje (V)\, [M5-11\, M5-12\, M5-13\, M5-14\, M5-15]\nLetniki: 5. 
 LETNIK (EMŠ M)\nIzvajalci: Katedra za maksilofacialno  in o KMOK\nProstor
 : Knjižnica - 57 - Stoma
END:VEVENT
BEGIN:VEVENT
SUMMARY:Maksilofacialna kirurgija s temelji dentalne medicine (MAFA)\, Vaj
 e (V)\, [M5-11\, M5-12\, M5-13\, M5-14\, M5-15]
DTSTART;TZID=Europe/Ljubljana:20251002T150000
DTEND;TZID=Europe/Ljubljana:20251002T170000
DTSTAMP:20260424T193135Z
UID:mf-AFLABS-URNIK:srecanje:5494-2025-10-02 15:00:00+02:00
DESCRIPTION:Predmet: Maksilofacialna kirurgija s temelji dentalne medicine
  (MAFA)\, Vaje (V)\, [M5-11\, M5-12\, M5-13\, M5-14\, M5-15]\nLetniki: 5. 
 LETNIK (EMŠ M)\nIzvajalci: Katedra za maksilofacialno  in o KMOK\nProstor
 : Knjižnica - 57 - Stoma
END:VEVENT
BEGIN:VEVENT
SUMMARY:Maksilofacialna kirurgija s temelji dentalne medicine (MAFA)\, Pre
 davanje (P)\, [M5-11\, M5-12\, M5-13\, M5-14\, M5-15]
DTSTART;TZID=Europe/Ljubljana:20251003T130000
DTEND;TZID=Europe/Ljubljana:20251003T150000
DTSTAMP:20260424T193135Z
UID:mf-AFLABS-URNIK:srecanje:5491-2025-10-03 13:00:00+02:00
DESCRIPTION:Predmet: Maksilofacialna kirurgija s temelji dentalne medicine
  (MAFA)\, Predavanje (P)\, [M5-11\, M5-12\, M5-13\, M5-14\, M5-15]\nLetnik
 i: 5. LETNIK (EMŠ M)\nIzvajalci: Katedra za maksilofacialno  in o KMOK\nP
 rostor: Pred - Fiziologija
END:VEVENT
BEGIN:VEVENT
SUMMARY:Maksilofacialna kirurgija s temelji dentalne medicine (MAFA)\, Vaj
 e (V)\, [M5-11\, M5-12\, M5-13\, M5-14\, M5-15]
DTSTART;TZID=Europe/Ljubljana:20251003T090000
DTEND;TZID=Europe/Ljubljana:20251003T130000
DTSTAMP:20260424T193135Z
UID:mf-AFLABS-URNIK:srecanje:5493-2025-10-03 09:00:00+02:00
DESCRIPTION:Predmet: Maksilofacialna kirurgija s temelji dentalne medicine
  (MAFA)\, Vaje (V)\, [M5-11\, M5-12\, M5-13\, M5-14\, M5-15]\nLetniki: 5. 
 LETNIK (EMŠ M)\nIzvajalci: Katedra za maksilofacialno  in o KMOK\nProstor
 : Knjižnica - 57 - Stoma
END:VEVENT
BEGIN:VEVENT
SUMMARY:Maksilofacialna kirurgija s temelji dentalne medicine (MAFA)\, Vaj
 e (V)\, [M5-11\, M5-12\, M5-13\, M5-14\, M5-15]
DTSTART;TZID=Europe/Ljubljana:20251003T150000
DTEND;TZID=Europe/Ljubljana:20251003T170000
DTSTAMP:20260424T193135Z
UID:mf-AFLABS-URNIK:srecanje:5495-2025-10-03 15:00:00+02:00
DESCRIPTION:Predmet: Maksilofacialna kirurgija s temelji dentalne medicine
  (MAFA)\, Vaje (V)\, [M5-11\, M5-12\, M5-13\, M5-14\, M5-15]\nLetniki: 5. 
 LETNIK (EMŠ M)\nIzvajalci: Katedra za maksilofacialno  in o KMOK\nProstor
 : Knjižnica - 57 - Stoma
END:VEVENT
BEGIN:VEVENT
SUMMARY:Maksilofacialna kirurgija s temelji dentalne medicine (MAFA)\, Pre
 davanje (P)\, [M5-11\, M5-12\, M5-13\, M5-14\, M5-15]
DTSTART;TZID=Europe/Ljubljana:20251006T130000
DTEND;TZID=Europe/Ljubljana:20251006T150000
DTSTAMP:20260424T193135Z
UID:mf-AFLABS-URNIK:srecanje:5496-2025-10-06 13:00:00+02:00
DESCRIPTION:Predmet: Maksilofacialna kirurgija s temelji dentalne medicine
  (MAFA)\, Predavanje (P)\, [M5-11\, M5-12\, M5-13\, M5-14\, M5-15]\nLetnik
 i: 5. LETNIK (EMŠ M)\nIzvajalci: Katedra za maksilofacialno  in o KMOK\nP
 rostor: Pred - 3 - UKC
END:VEVENT
BEGIN:VEVENT
SUMMARY:Maksilofacialna kirurgija s temelji dentalne medicine (MAFA)\, Vaj
 e (V)\, [M5-11\, M5-12\, M5-13\, M5-14\, M5-15]
DTSTART;TZID=Europe/Ljubljana:20251006T090000
DTEND;TZID=Europe/Ljubljana:20251006T130000
DTSTAMP:20260424T193135Z
UID:mf-AFLABS-URNIK:srecanje:5501-2025-10-06 09:00:00+02:00
DESCRIPTION:Predmet: Maksilofacialna kirurgija s temelji dentalne medicine
  (MAFA)\, Vaje (V)\, [M5-11\, M5-12\, M5-13\, M5-14\, M5-15]\nLetniki: 5. 
 LETNIK (EMŠ M)\nIzvajalci: Katedra za maksilofacialno  in o KMOK\nProstor
 : Knjižnica - 57 - Stoma
END:VEVENT
BEGIN:VEVENT
SUMMARY:Maksilofacialna kirurgija s temelji dentalne medicine (MAFA)\, Vaj
 e (V)\, [M5-11\, M5-12\, M5-13\, M5-14\, M5-15]
DTSTART;TZID=Europe/Ljubljana:20251006T150000
DTEND;TZID=Europe/Ljubljana:20251006T170000
DTSTAMP:20260424T193135Z
UID:mf-AFLABS-URNIK:srecanje:5504-2025-10-06 15:00:00+02:00
DESCRIPTION:Predmet: Maksilofacialna kirurgija s temelji dentalne medicine
  (MAFA)\, Vaje (V)\, [M5-11\, M5-12\, M5-13\, M5-14\, M5-15]\nLetniki: 5. 
 LETNIK (EMŠ M)\nIzvajalci: Katedra za maksilofacialno  in o KMOK\nProstor
 : Knjižnica - 57 - Stoma
END:VEVENT
END:VCALENDAR
