BEGIN:VCALENDAR
VERSION:2.0
PRODID:-//AFLabs urnik izvoz - mf//aflabs.si//SI
NAME:UL MF urnik
X-WR-CALNAME:UL MF urnik
DTSTAMP:20260425T203344Z
REFRESH-INTERVAL:PT1H
SOURCE:https://urnik.mf.uni-lj.si/en/teacher/17/?day=2025-09-29&export=1
URL:https://urnik.mf.uni-lj.si/en/teacher/17/?day=2025-09-29&export=1
X-PUBLISHED-TTL:PT1H
X-WR-TIMEZONE:Europe/Ljubljana
BEGIN:VTIMEZONE
TZID:Europe/Ljubljana
BEGIN:DAYLIGHT
DTSTART:20260329T020000
RDATE:20260329T020000
RDATE:20270328T020000
TZNAME:CEST
TZOFFSETFROM:+0100
TZOFFSETTO:+0200
END:DAYLIGHT
BEGIN:STANDARD
DTSTART:20261025T030000
RDATE:20261025T030000
RDATE:20271031T030000
TZNAME:CET
TZOFFSETFROM:+0200
TZOFFSETTO:+0100
END:STANDARD
END:VTIMEZONE
BEGIN:VEVENT
SUMMARY:Infekcijske bolezni in epidemiologija - Infekcijske bolezni (INFEK
 BEP-IB)\, Predavanje (P)\, [M4-16\, M4-17\, M4-18\, M4-19\, M4-20]
DTSTART;TZID=Europe/Ljubljana:20251001T091500
DTEND;TZID=Europe/Ljubljana:20251001T160000
DTSTAMP:20260425T203344Z
UID:mf-AFLABS-URNIK:srecanje:5125-2025-10-01 09:15:00+02:00
DESCRIPTION:Predmet: Infekcijske bolezni in epidemiologija - Infekcijske b
 olezni (INFEKBEP-IB)\, Predavanje (P)\, [M4-16\, M4-17\, M4-18\, M4-19\, M
 4-20]\nLetniki: 4. LETNIK (EMŠ M)\nIzvajalci: Katedra za infekcijske bole
 zni i KIBE\nProstor: Pred - Infekcijska
END:VEVENT
BEGIN:VEVENT
SUMMARY:Infekcijske bolezni in epidemiologija - Infekcijske bolezni (INFEK
 BEP-IB)\, Klinične vaje (KV)\, [M4-16\, M4-17\, M4-18\, M4-19\, M4-20]
DTSTART;TZID=Europe/Ljubljana:20251002T090000
DTEND;TZID=Europe/Ljubljana:20251002T130000
DTSTAMP:20260425T203344Z
UID:mf-AFLABS-URNIK:srecanje:5126-2025-10-02 09:00:00+02:00
DESCRIPTION:Predmet: Infekcijske bolezni in epidemiologija - Infekcijske b
 olezni (INFEKBEP-IB)\, Klinične vaje (KV)\, [M4-16\, M4-17\, M4-18\, M4-1
 9\, M4-20]\nLetniki: 4. LETNIK (EMŠ M)\nIzvajalci: Katedra za infekcijske
  bolezni i KIBE\nProstor: Drugje
END:VEVENT
BEGIN:VEVENT
SUMMARY:Infekcijske bolezni in epidemiologija - Infekcijske bolezni (INFEK
 BEP-IB)\, Klinične vaje (KV)\, [M4-16\, M4-17\, M4-18\, M4-19\, M4-20]
DTSTART;TZID=Europe/Ljubljana:20251009T090000
DTEND;TZID=Europe/Ljubljana:20251009T130000
DTSTAMP:20260425T203344Z
UID:mf-AFLABS-URNIK:srecanje:5126-2025-10-09 09:00:00+02:00
DESCRIPTION:Predmet: Infekcijske bolezni in epidemiologija - Infekcijske b
 olezni (INFEKBEP-IB)\, Klinične vaje (KV)\, [M4-16\, M4-17\, M4-18\, M4-1
 9\, M4-20]\nLetniki: 4. LETNIK (EMŠ M)\nIzvajalci: Katedra za infekcijske
  bolezni i KIBE\nProstor: Drugje
END:VEVENT
BEGIN:VEVENT
SUMMARY:Infekcijske bolezni in epidemiologija - Infekcijske bolezni (INFEK
 BEP-IB)\, Klinične vaje (KV)\, [M4-16\, M4-17\, M4-18\, M4-19\, M4-20]
DTSTART;TZID=Europe/Ljubljana:20251016T090000
DTEND;TZID=Europe/Ljubljana:20251016T130000
DTSTAMP:20260425T203344Z
UID:mf-AFLABS-URNIK:srecanje:5126-2025-10-16 09:00:00+02:00
DESCRIPTION:Predmet: Infekcijske bolezni in epidemiologija - Infekcijske b
 olezni (INFEKBEP-IB)\, Klinične vaje (KV)\, [M4-16\, M4-17\, M4-18\, M4-1
 9\, M4-20]\nLetniki: 4. LETNIK (EMŠ M)\nIzvajalci: Katedra za infekcijske
  bolezni i KIBE\nProstor: Drugje
END:VEVENT
BEGIN:VEVENT
SUMMARY:Infekcijske bolezni in epidemiologija - Infekcijske bolezni (INFEK
 BEP-IB)\, Klinične vaje (KV)\, [M4-16\, M4-17\, M4-18\, M4-19\, M4-20]
DTSTART;TZID=Europe/Ljubljana:20251023T090000
DTEND;TZID=Europe/Ljubljana:20251023T130000
DTSTAMP:20260425T203344Z
UID:mf-AFLABS-URNIK:srecanje:5126-2025-10-23 09:00:00+02:00
DESCRIPTION:Predmet: Infekcijske bolezni in epidemiologija - Infekcijske b
 olezni (INFEKBEP-IB)\, Klinične vaje (KV)\, [M4-16\, M4-17\, M4-18\, M4-1
 9\, M4-20]\nLetniki: 4. LETNIK (EMŠ M)\nIzvajalci: Katedra za infekcijske
  bolezni i KIBE\nProstor: Drugje
END:VEVENT
BEGIN:VEVENT
SUMMARY:Infekcijske bolezni in epidemiologija - Infekcijske bolezni (INFEK
 BEP-IB)\, Klinične vaje (KV)\, [M4-16\, M4-17\, M4-18\, M4-19\, M4-20]
DTSTART;TZID=Europe/Ljubljana:20251030T090000
DTEND;TZID=Europe/Ljubljana:20251030T130000
DTSTAMP:20260425T203344Z
UID:mf-AFLABS-URNIK:srecanje:5126-2025-10-30 09:00:00+01:00
DESCRIPTION:Predmet: Infekcijske bolezni in epidemiologija - Infekcijske b
 olezni (INFEKBEP-IB)\, Klinične vaje (KV)\, [M4-16\, M4-17\, M4-18\, M4-1
 9\, M4-20]\nLetniki: 4. LETNIK (EMŠ M)\nIzvajalci: Katedra za infekcijske
  bolezni i KIBE\nProstor: Drugje
END:VEVENT
BEGIN:VEVENT
SUMMARY:Infekcijske bolezni in epidemiologija - Globalno zdravje (INFEKBEP
 -GZ)\, Predavanje/seminar (P/S)\, [M4-16\, M4-17\, M4-18\, M4-19\, M4-20]
DTSTART;TZID=Europe/Ljubljana:20251003T083000
DTEND;TZID=Europe/Ljubljana:20251003T120000
DTSTAMP:20260425T203344Z
UID:mf-AFLABS-URNIK:srecanje:5127-2025-10-03 08:30:00+02:00
DESCRIPTION:Predmet: Infekcijske bolezni in epidemiologija - Globalno zdra
 vje (INFEKBEP-GZ)\, Predavanje/seminar (P/S)\, [M4-16\, M4-17\, M4-18\, M4
 -19\, M4-20]\nLetniki: 4. LETNIK (EMŠ M)\nIzvajalci: Katedra za infekcijs
 ke bolezni i KIBE\nProstor: Pred - Infekcijska
END:VEVENT
BEGIN:VEVENT
SUMMARY:Infekcijske bolezni in epidemiologija - Infekcijske bolezni (INFEK
 BEP-IB)\, Predavanje (P)\, [M4-16\, M4-17\, M4-18\, M4-19\, M4-20]
DTSTART;TZID=Europe/Ljubljana:20251006T091500
DTEND;TZID=Europe/Ljubljana:20251006T150000
DTSTAMP:20260425T203344Z
UID:mf-AFLABS-URNIK:srecanje:5128-2025-10-06 09:15:00+02:00
DESCRIPTION:Predmet: Infekcijske bolezni in epidemiologija - Infekcijske b
 olezni (INFEKBEP-IB)\, Predavanje (P)\, [M4-16\, M4-17\, M4-18\, M4-19\, M
 4-20]\nLetniki: 4. LETNIK (EMŠ M)\nIzvajalci: Katedra za infekcijske bole
 zni i KIBE\nProstor: Pred - Infekcijska
END:VEVENT
BEGIN:VEVENT
SUMMARY:Infekcijske bolezni in epidemiologija - Infekcijske bolezni (INFEK
 BEP-IB)\, Predavanje (P)\, [M4-16\, M4-17\, M4-18\, M4-19\, M4-20]
DTSTART;TZID=Europe/Ljubljana:20251013T091500
DTEND;TZID=Europe/Ljubljana:20251013T150000
DTSTAMP:20260425T203344Z
UID:mf-AFLABS-URNIK:srecanje:5128-2025-10-13 09:15:00+02:00
DESCRIPTION:Predmet: Infekcijske bolezni in epidemiologija - Infekcijske b
 olezni (INFEKBEP-IB)\, Predavanje (P)\, [M4-16\, M4-17\, M4-18\, M4-19\, M
 4-20]\nLetniki: 4. LETNIK (EMŠ M)\nIzvajalci: Katedra za infekcijske bole
 zni i KIBE\nProstor: Pred - Infekcijska
END:VEVENT
BEGIN:VEVENT
SUMMARY:Infekcijske bolezni in epidemiologija - Infekcijske bolezni (INFEK
 BEP-IB)\, Predavanje (P)\, [M4-16\, M4-17\, M4-18\, M4-19\, M4-20]
DTSTART;TZID=Europe/Ljubljana:20251020T091500
DTEND;TZID=Europe/Ljubljana:20251020T150000
DTSTAMP:20260425T203344Z
UID:mf-AFLABS-URNIK:srecanje:5128-2025-10-20 09:15:00+02:00
DESCRIPTION:Predmet: Infekcijske bolezni in epidemiologija - Infekcijske b
 olezni (INFEKBEP-IB)\, Predavanje (P)\, [M4-16\, M4-17\, M4-18\, M4-19\, M
 4-20]\nLetniki: 4. LETNIK (EMŠ M)\nIzvajalci: Katedra za infekcijske bole
 zni i KIBE\nProstor: Pred - Infekcijska
END:VEVENT
BEGIN:VEVENT
SUMMARY:Infekcijske bolezni in epidemiologija - Infekcijske bolezni (INFEK
 BEP-IB)\, Predavanje (P)\, [M4-16\, M4-17\, M4-18\, M4-19\, M4-20]
DTSTART;TZID=Europe/Ljubljana:20251027T091500
DTEND;TZID=Europe/Ljubljana:20251027T150000
DTSTAMP:20260425T203344Z
UID:mf-AFLABS-URNIK:srecanje:5128-2025-10-27 09:15:00+01:00
DESCRIPTION:Predmet: Infekcijske bolezni in epidemiologija - Infekcijske b
 olezni (INFEKBEP-IB)\, Predavanje (P)\, [M4-16\, M4-17\, M4-18\, M4-19\, M
 4-20]\nLetniki: 4. LETNIK (EMŠ M)\nIzvajalci: Katedra za infekcijske bole
 zni i KIBE\nProstor: Pred - Infekcijska
END:VEVENT
BEGIN:VEVENT
SUMMARY:Tropska in potovalna medicina (TROPMED)\, Predavanje (P)
DTSTART;TZID=Europe/Ljubljana:20251006T180000
DTEND;TZID=Europe/Ljubljana:20251006T193000
DTSTAMP:20260425T203344Z
UID:mf-AFLABS-URNIK:srecanje:7511-2025-10-06 18:00:00+02:00
DESCRIPTION:Predmet: Tropska in potovalna medicina (TROPMED)\, Predavanje 
 (P)\nLetniki: 5. LETNIK (EMŠ M)\, 6. LETNIK (EMŠ M)\nIzvajalci: Katedra 
 za infekcijske bolezni i KIBE\nProstor: Pred - Mala - MF
END:VEVENT
BEGIN:VEVENT
SUMMARY:Tropska in potovalna medicina (TROPMED)\, Predavanje (P)
DTSTART;TZID=Europe/Ljubljana:20251013T180000
DTEND;TZID=Europe/Ljubljana:20251013T193000
DTSTAMP:20260425T203344Z
UID:mf-AFLABS-URNIK:srecanje:7511-2025-10-13 18:00:00+02:00
DESCRIPTION:Predmet: Tropska in potovalna medicina (TROPMED)\, Predavanje 
 (P)\nLetniki: 5. LETNIK (EMŠ M)\, 6. LETNIK (EMŠ M)\nIzvajalci: Katedra 
 za infekcijske bolezni i KIBE\nProstor: Pred - Mala - MF
END:VEVENT
BEGIN:VEVENT
SUMMARY:Tropska in potovalna medicina (TROPMED)\, Predavanje (P)
DTSTART;TZID=Europe/Ljubljana:20251020T180000
DTEND;TZID=Europe/Ljubljana:20251020T193000
DTSTAMP:20260425T203344Z
UID:mf-AFLABS-URNIK:srecanje:7511-2025-10-20 18:00:00+02:00
DESCRIPTION:Predmet: Tropska in potovalna medicina (TROPMED)\, Predavanje 
 (P)\nLetniki: 5. LETNIK (EMŠ M)\, 6. LETNIK (EMŠ M)\nIzvajalci: Katedra 
 za infekcijske bolezni i KIBE\nProstor: Pred - Mala - MF
END:VEVENT
BEGIN:VEVENT
SUMMARY:Tropska in potovalna medicina (TROPMED)\, Predavanje (P)
DTSTART;TZID=Europe/Ljubljana:20251027T180000
DTEND;TZID=Europe/Ljubljana:20251027T193000
DTSTAMP:20260425T203344Z
UID:mf-AFLABS-URNIK:srecanje:7511-2025-10-27 18:00:00+01:00
DESCRIPTION:Predmet: Tropska in potovalna medicina (TROPMED)\, Predavanje 
 (P)\nLetniki: 5. LETNIK (EMŠ M)\, 6. LETNIK (EMŠ M)\nIzvajalci: Katedra 
 za infekcijske bolezni i KIBE\nProstor: Pred - Mala - MF
END:VEVENT
BEGIN:VEVENT
SUMMARY:Tropska in potovalna medicina (TROPMED)\, Predavanje (P)
DTSTART;TZID=Europe/Ljubljana:20251103T180000
DTEND;TZID=Europe/Ljubljana:20251103T193000
DTSTAMP:20260425T203344Z
UID:mf-AFLABS-URNIK:srecanje:7511-2025-11-03 18:00:00+01:00
DESCRIPTION:Predmet: Tropska in potovalna medicina (TROPMED)\, Predavanje 
 (P)\nLetniki: 5. LETNIK (EMŠ M)\, 6. LETNIK (EMŠ M)\nIzvajalci: Katedra 
 za infekcijske bolezni i KIBE\nProstor: Pred - Mala - MF
END:VEVENT
BEGIN:VEVENT
SUMMARY:Infekcijske bolezni in epidemiologija - Infekcijske bolezni (INFEK
 BEP-IB)\, Klinične vaje (KV)\, [M4-16\, M4-17\, M4-18\, M4-19\, M4-20]
DTSTART;TZID=Europe/Ljubljana:20251007T090000
DTEND;TZID=Europe/Ljubljana:20251007T130000
DTSTAMP:20260425T203344Z
UID:mf-AFLABS-URNIK:srecanje:5129-2025-10-07 09:00:00+02:00
DESCRIPTION:Predmet: Infekcijske bolezni in epidemiologija - Infekcijske b
 olezni (INFEKBEP-IB)\, Klinične vaje (KV)\, [M4-16\, M4-17\, M4-18\, M4-1
 9\, M4-20]\nLetniki: 4. LETNIK (EMŠ M)\nIzvajalci: Katedra za infekcijske
  bolezni i KIBE\nProstor: Drugje
END:VEVENT
BEGIN:VEVENT
SUMMARY:Infekcijske bolezni in epidemiologija - Infekcijske bolezni (INFEK
 BEP-IB)\, Klinične vaje (KV)\, [M4-16\, M4-17\, M4-18\, M4-19\, M4-20]
DTSTART;TZID=Europe/Ljubljana:20251014T090000
DTEND;TZID=Europe/Ljubljana:20251014T130000
DTSTAMP:20260425T203344Z
UID:mf-AFLABS-URNIK:srecanje:5129-2025-10-14 09:00:00+02:00
DESCRIPTION:Predmet: Infekcijske bolezni in epidemiologija - Infekcijske b
 olezni (INFEKBEP-IB)\, Klinične vaje (KV)\, [M4-16\, M4-17\, M4-18\, M4-1
 9\, M4-20]\nLetniki: 4. LETNIK (EMŠ M)\nIzvajalci: Katedra za infekcijske
  bolezni i KIBE\nProstor: Drugje
END:VEVENT
BEGIN:VEVENT
SUMMARY:Infekcijske bolezni in epidemiologija - Infekcijske bolezni (INFEK
 BEP-IB)\, Klinične vaje (KV)\, [M4-16\, M4-17\, M4-18\, M4-19\, M4-20]
DTSTART;TZID=Europe/Ljubljana:20251021T090000
DTEND;TZID=Europe/Ljubljana:20251021T130000
DTSTAMP:20260425T203344Z
UID:mf-AFLABS-URNIK:srecanje:5129-2025-10-21 09:00:00+02:00
DESCRIPTION:Predmet: Infekcijske bolezni in epidemiologija - Infekcijske b
 olezni (INFEKBEP-IB)\, Klinične vaje (KV)\, [M4-16\, M4-17\, M4-18\, M4-1
 9\, M4-20]\nLetniki: 4. LETNIK (EMŠ M)\nIzvajalci: Katedra za infekcijske
  bolezni i KIBE\nProstor: Drugje
END:VEVENT
BEGIN:VEVENT
SUMMARY:Infekcijske bolezni in epidemiologija - Infekcijske bolezni (INFEK
 BEP-IB)\, Klinične vaje (KV)\, [M4-16\, M4-17\, M4-18\, M4-19\, M4-20]
DTSTART;TZID=Europe/Ljubljana:20251028T090000
DTEND;TZID=Europe/Ljubljana:20251028T130000
DTSTAMP:20260425T203344Z
UID:mf-AFLABS-URNIK:srecanje:5129-2025-10-28 09:00:00+01:00
DESCRIPTION:Predmet: Infekcijske bolezni in epidemiologija - Infekcijske b
 olezni (INFEKBEP-IB)\, Klinične vaje (KV)\, [M4-16\, M4-17\, M4-18\, M4-1
 9\, M4-20]\nLetniki: 4. LETNIK (EMŠ M)\nIzvajalci: Katedra za infekcijske
  bolezni i KIBE\nProstor: Drugje
END:VEVENT
BEGIN:VEVENT
SUMMARY:Infekcijske bolezni in epidemiologija - Infekcijske bolezni (INFEK
 BEP-IB)\, Klinične vaje (KV)\, [M4-16\, M4-17\, M4-18\, M4-19\, M4-20]
DTSTART;TZID=Europe/Ljubljana:20251008T090000
DTEND;TZID=Europe/Ljubljana:20251008T130000
DTSTAMP:20260425T203344Z
UID:mf-AFLABS-URNIK:srecanje:5130-2025-10-08 09:00:00+02:00
DESCRIPTION:Predmet: Infekcijske bolezni in epidemiologija - Infekcijske b
 olezni (INFEKBEP-IB)\, Klinične vaje (KV)\, [M4-16\, M4-17\, M4-18\, M4-1
 9\, M4-20]\nLetniki: 4. LETNIK (EMŠ M)\nIzvajalci: Katedra za infekcijske
  bolezni i KIBE\nProstor: Drugje
END:VEVENT
BEGIN:VEVENT
SUMMARY:Infekcijske bolezni in epidemiologija - Infekcijske bolezni (INFEK
 BEP-IB)\, Klinične vaje (KV)\, [M4-16\, M4-17\, M4-18\, M4-19\, M4-20]
DTSTART;TZID=Europe/Ljubljana:20251015T090000
DTEND;TZID=Europe/Ljubljana:20251015T130000
DTSTAMP:20260425T203344Z
UID:mf-AFLABS-URNIK:srecanje:5130-2025-10-15 09:00:00+02:00
DESCRIPTION:Predmet: Infekcijske bolezni in epidemiologija - Infekcijske b
 olezni (INFEKBEP-IB)\, Klinične vaje (KV)\, [M4-16\, M4-17\, M4-18\, M4-1
 9\, M4-20]\nLetniki: 4. LETNIK (EMŠ M)\nIzvajalci: Katedra za infekcijske
  bolezni i KIBE\nProstor: Drugje
END:VEVENT
BEGIN:VEVENT
SUMMARY:Infekcijske bolezni in epidemiologija - Infekcijske bolezni (INFEK
 BEP-IB)\, Klinične vaje (KV)\, [M4-16\, M4-17\, M4-18\, M4-19\, M4-20]
DTSTART;TZID=Europe/Ljubljana:20251022T090000
DTEND;TZID=Europe/Ljubljana:20251022T130000
DTSTAMP:20260425T203344Z
UID:mf-AFLABS-URNIK:srecanje:5130-2025-10-22 09:00:00+02:00
DESCRIPTION:Predmet: Infekcijske bolezni in epidemiologija - Infekcijske b
 olezni (INFEKBEP-IB)\, Klinične vaje (KV)\, [M4-16\, M4-17\, M4-18\, M4-1
 9\, M4-20]\nLetniki: 4. LETNIK (EMŠ M)\nIzvajalci: Katedra za infekcijske
  bolezni i KIBE\nProstor: Drugje
END:VEVENT
BEGIN:VEVENT
SUMMARY:Infekcijske bolezni in epidemiologija - Infekcijske bolezni (INFEK
 BEP-IB)\, Klinične vaje (KV)\, [M4-16\, M4-17\, M4-18\, M4-19\, M4-20]
DTSTART;TZID=Europe/Ljubljana:20251029T090000
DTEND;TZID=Europe/Ljubljana:20251029T130000
DTSTAMP:20260425T203344Z
UID:mf-AFLABS-URNIK:srecanje:5130-2025-10-29 09:00:00+01:00
DESCRIPTION:Predmet: Infekcijske bolezni in epidemiologija - Infekcijske b
 olezni (INFEKBEP-IB)\, Klinične vaje (KV)\, [M4-16\, M4-17\, M4-18\, M4-1
 9\, M4-20]\nLetniki: 4. LETNIK (EMŠ M)\nIzvajalci: Katedra za infekcijske
  bolezni i KIBE\nProstor: Drugje
END:VEVENT
BEGIN:VEVENT
SUMMARY:Infekcijske bolezni in epidemiologija - Globalno zdravje (INFEKBEP
 -GZ)\, Predavanje (P)\, [M4-16\, M4-17\, M4-18\, M4-19\, M4-20]
DTSTART;TZID=Europe/Ljubljana:20251010T083000
DTEND;TZID=Europe/Ljubljana:20251010T130000
DTSTAMP:20260425T203344Z
UID:mf-AFLABS-URNIK:srecanje:5131-2025-10-10 08:30:00+02:00
DESCRIPTION:Predmet: Infekcijske bolezni in epidemiologija - Globalno zdra
 vje (INFEKBEP-GZ)\, Predavanje (P)\, [M4-16\, M4-17\, M4-18\, M4-19\, M4-2
 0]\nLetniki: 4. LETNIK (EMŠ M)\nIzvajalci: Katedra za infekcijske bolezni
  i KIBE\nProstor: Pred - Infekcijska
END:VEVENT
BEGIN:VEVENT
SUMMARY:Infekcijske bolezni in epidemiologija - Globalno zdravje (INFEKBEP
 -GZ)\, Predavanje (P)\, [M4-16\, M4-17\, M4-18\, M4-19\, M4-20]
DTSTART;TZID=Europe/Ljubljana:20251017T083000
DTEND;TZID=Europe/Ljubljana:20251017T130000
DTSTAMP:20260425T203344Z
UID:mf-AFLABS-URNIK:srecanje:5131-2025-10-17 08:30:00+02:00
DESCRIPTION:Predmet: Infekcijske bolezni in epidemiologija - Globalno zdra
 vje (INFEKBEP-GZ)\, Predavanje (P)\, [M4-16\, M4-17\, M4-18\, M4-19\, M4-2
 0]\nLetniki: 4. LETNIK (EMŠ M)\nIzvajalci: Katedra za infekcijske bolezni
  i KIBE\nProstor: Pred - Infekcijska
END:VEVENT
BEGIN:VEVENT
SUMMARY:Infekcijske bolezni in epidemiologija - Globalno zdravje (INFEKBEP
 -GZ)\, Predavanje (P)\, [M4-16\, M4-17\, M4-18\, M4-19\, M4-20]
DTSTART;TZID=Europe/Ljubljana:20251024T083000
DTEND;TZID=Europe/Ljubljana:20251024T131500
DTSTAMP:20260425T203344Z
UID:mf-AFLABS-URNIK:srecanje:5133-2025-10-24 08:30:00+02:00
DESCRIPTION:Predmet: Infekcijske bolezni in epidemiologija - Globalno zdra
 vje (INFEKBEP-GZ)\, Predavanje (P)\, [M4-16\, M4-17\, M4-18\, M4-19\, M4-2
 0]\nLetniki: 4. LETNIK (EMŠ M)\nIzvajalci: Katedra za infekcijske bolezni
  i KIBE\nProstor: Pred - Infekcijska
END:VEVENT
BEGIN:VEVENT
SUMMARY:Infekcijske bolezni in epidemiologija - Infekcijske bolezni (INFEK
 BEP-IB)\, Klinične vaje (KV)\, [M4-16\, M4-17\, M4-18\, M4-19\, M4-20]
DTSTART;TZID=Europe/Ljubljana:20251103T090000
DTEND;TZID=Europe/Ljubljana:20251103T130000
DTSTAMP:20260425T203344Z
UID:mf-AFLABS-URNIK:srecanje:5132-2025-11-03 09:00:00+01:00
DESCRIPTION:Predmet: Infekcijske bolezni in epidemiologija - Infekcijske b
 olezni (INFEKBEP-IB)\, Klinične vaje (KV)\, [M4-16\, M4-17\, M4-18\, M4-1
 9\, M4-20]\nLetniki: 4. LETNIK (EMŠ M)\nIzvajalci: Katedra za infekcijske
  bolezni i KIBE\nProstor: Drugje
END:VEVENT
END:VCALENDAR
